BEGIN:VCALENDAR
VERSION:2.0
PRODID:-//Faculty of ICT, Mahidol U. - ECPv6.1.3//NONSGML v1.0//EN
CALSCALE:GREGORIAN
METHOD:PUBLISH
X-ORIGINAL-URL:https://www.ict.mahidol.ac.th/en
X-WR-CALDESC:Events for Faculty of ICT, Mahidol U.
REFRESH-INTERVAL;VALUE=DURATION:PT1H
X-Robots-Tag:noindex
X-PUBLISHED-TTL:PT1H
BEGIN:VTIMEZONE
TZID:Asia/Krasnoyarsk
BEGIN:STANDARD
TZOFFSETFROM:+0700
TZOFFSETTO:+0700
TZNAME:+07
DTSTART:20250101T000000
END:STANDARD
END:VTIMEZONE
BEGIN:VEVENT
DTSTART;TZID=Asia/Krasnoyarsk:20250201T090000
DTEND;TZID=Asia/Krasnoyarsk:20250202T160000
DTSTAMP:20260420T010501
CREATED:20241104T022635Z
LAST-MODIFIED:20241113T012641Z
UID:13773-1738400400-1738512000@www.ict.mahidol.ac.th
SUMMARY:Cybersecurity Bootcamp for Beginners
DESCRIPTION:[vc_row][vc_column][vc_row_inner][vc_column_inner width=”1/3″][/vc_column_inner][vc_column_inner width=”1/3″][/vc_column_inner][vc_column_inner width=”1/3″]\n    ลงทะเบียน คลิก\n    [/vc_column_inner][/vc_row_inner][vc_tta_tabs shape=”square” color=”black” active_section=”1″][vc_tta_section title=”หลักการและเหตุผล” tab_id=”1730688399715-006e84f8-2270″][vc_column_text] \nปัจจุบันภัยคุกคามทางไซเบอร์เพิ่มขึ้นอย่างรวดเร็วและมีความซับซ้อนมากขึ้นทุกวัน ทั้งการโจมตีระบบเครือข่าย การขโมยข้อมูลส่วนตัว หรือการทำลายระบบโครงสร้างพื้นฐาน การป้องกันและแก้ไขปัญหาด้านความปลอดภัยจึงกลายเป็นเรื่องสำคัญในทุกองค์กร โดยเฉพาะในยุคที่ข้อมูลและเทคโนโลยีดิจิทัลมีบทบาทสำคัญในการขับเคลื่อนธุรกิจและกิจกรรมต่าง ๆ \nCybersecurity Bootcamp for Beginners ถูกจัดขึ้นเพื่อตอบสนองต่อความต้องการในการพัฒนาบุคลากรให้มีความสามารถด้านการรักษาความปลอดภัยไซเบอร์ โดยให้ผู้เข้าร่วมมีโอกาสได้ศึกษาและฝึกฝนทักษะทั้งทางรุก (Red Team) และการรับ (Blue Team) เบื้องต้น โดยมีการปูพื้นความรู้ที่จำเป็นที่ควรเข้าใจก่อน เช่นพื้นฐานความรู้ด้านเน็ตเวิร์ค พื้นฐานความรู้ด้านความมั่นคงปลอดภัย และพื้นฐานความรู้ในการใช้งานระบบปฏิบัติการ Kali Linux โดยทักษะทางด้านรุก หรือ Red Team ผู้เข้าร่วมอบรมจะได้เรียนรู้การแฮ็กอย่างถูกกฎหมาย (Ethical Hacking) เน้นการเรียนรู้ผ่านการปฏิบัติที่เป็นรูปธรรม หรือ hands-on workshop เพื่อเพิ่มความเข้าใจเกี่ยวกับการโจมตีทางไซเบอร์ และวิธีการเจาะช่องโหว่ของระบบอย่างปลอดภัย ส่วนทักษะทางการรับ (Blue Team) ผู้เข้าร่วมอบรมจะได้ทักษะในการป้องกันและตอบโต้ภัยคุกคามไซเบอร์อย่างมีประสิทธิภาพ โดยเน้นให้ผู้เข้าร่วมเรียนรู้วิธีการปกป้องและเสริมความแข็งแกร่งให้กับระบบต่าง ๆ ผ่านการจำลองสถานการณ์การโจมตีทางไซเบอร์จากมุมมองของฝ่ายป้องกัน ซึ่งถือเป็นส่วนสำคัญในการรักษาความมั่นคงของระบบ \n[/vc_column_text][vc_empty_space height=”15px”][vc_single_image image=”13830″ img_size=”full” onclick=”link_image”][/vc_tta_section][vc_tta_section title=”กำหนดการ” tab_id=”1730688399719-3ed6f0aa-54fa”][vc_column_text] \nเนื้อหาการอบรม\n1. พื้นฐานความรู้เบื้องต้นด้านคอมพิวเตอร์เน็ตเวิร์ค \n\n\n\nTCP/IP\nIP address\, Subnet Mask\, Default Gateway\nPort address\nHTTP\n\n\n\n2. พื้นฐานความรู้ด้านความมั่นคงปลอดภัย \n\n\n\nCIA\, AAA\nHTTPS\nฐานข้อมูลช่องโหว่ของระบบ (CVE)\n\n\n\n3. กฎหมายด้านความมั่นคงปลอดภัย \n4. พื้นฐานความรู้ในการใช้งาน Kali Linux \n5. Cyber attacks (Red Team) \n\n\n\nReconnaissance\nPassword Bruteforce\nDoS and DDoS attack\nPacket Interception\n\n\n\n6. Cyber defense (Blue Team) \n\n\n\nStrong password policy\nPacket Analysis with Wireshark\nFirewall\n\n\n\n[/vc_column_text][/vc_tta_section][vc_tta_section title=”วิทยากร” tab_id=”1730688435570-70b6422a-38e9″][vc_empty_space][vc_row_inner][vc_column_inner width=”1/3″][vc_column_text] \nรศ. ดร. วัสกา วิสุทธิวิเศษ\nอาจารย์ประจำคณะ ICT มหาวิทยาลัยมหิดดล \n[/vc_column_text][/vc_column_inner][vc_column_inner width=”1/3″][vc_column_text] \nผศ. ดร. ดลวรา คุณะดิลก\nอาจารย์ประจำคณะ ICT มหาวิทยาลัยมหิดดล\n \n[/vc_column_text][/vc_column_inner][vc_column_inner width=”1/3″][vc_column_text] \nดร. อิทธิพล รัศมีโรจน์\nอาจารย์ประจำคณะ ICT มหาวิทยาลัยมหิดดล\n \n[/vc_column_text][/vc_column_inner][/vc_row_inner][/vc_tta_section][vc_tta_section title=”ค่าลงทะเบียน” tab_id=”1730688492416-b2dc9259-59f8″][vc_column_text] \nการชำระค่าลงทะเบียน โปรดรอเจ้าหน้าที่ติดต่อกลับ ทาง Email ที่ท่านสมัครมา\nหลักเกณฑ์การคืนเงินค่าลงทะเบียนฝึกอบรม\nกรณีผู้เข้ารับการฝึกอบรม ไม่สามารถเข้ารับการฝึกอบรมได้ ให้ผู้เข้ารับการฝึกอบรมแจ้งความประสงค์ขอคืนเงินค่าลงทะเบียนเป็นลายลักษณ์อักษรต่อผู้จัดฝึกอบรมรับทราบ โดยมีหลักเกณฑ์ ดังนี้ \n\n\n\nระยะเวลาแสดงความประสงค์ขอคืนเงิน\nอัตราที่คืน\n\n\n1. ไม่น้อยกว่า 7 วันก่อนวันจัดฝึกอบรม\n100 %\n\n\n2. น้อยกว่า 7 วันก่อนวันจัดฝึกอบรม\n75 % **เนื่องจากมีค่าใช้จ่ายที่เกิดขึ้นในการดำเนินงาน\n\n\n\nหมายเหตุ : \n\nกรณีคณะประกาศยกเลิกโครงการหรือหลักสูตรอบรม คณะจะคืนเงินค่าลงทะเบียนเต็มจำนวน\nกรณีโครงการหรือหลักสูตรอบรมที่คณะประกาศเลื่อนจัด และผู้เข้ารับการอบรมมีความประสงค์จะขอคืนเงินค่าลงทะเบียน คณะจะคืนเงินค่าลงทะเบียนเต็มจำนวน\n\n[/vc_column_text][/vc_tta_section][/vc_tta_tabs][/vc_column][/vc_row]
URL:https://www.ict.mahidol.ac.th/en/event/cybersecurity-bootcamp-for-beginners/
LOCATION:Mahidol University (Salaya)\, Faculty of ICT\, Salaya\, Nakhon Pathom\, Salaya\, Nakhon Pathom\, 73170\, Thailand
CATEGORIES:Training
ATTACH;FMTTYPE=image/jpeg:https://www.ict.mahidol.ac.th/en/wp-content/uploads/2024/11/Cybersecurity-Bootcamp-for-Beginners-cover.jpg
END:VEVENT
BEGIN:VEVENT
DTSTART;TZID=Asia/Krasnoyarsk:20250205T130000
DTEND;TZID=Asia/Krasnoyarsk:20250205T170000
DTSTAMP:20260420T010501
CREATED:20241218T061620Z
LAST-MODIFIED:20241218T061710Z
UID:14018-1738760400-1738774800@www.ict.mahidol.ac.th
SUMMARY:สัมมนาวิชาการ MUICT-AST The series หัวข้อ "Generative AI for Workplace Excellence: พลิกโฉมทักษะการทำงานยุคใหม่"
DESCRIPTION:[vc_row][vc_column width=”1/3″][/vc_column][vc_column width=”1/3″][/vc_column][vc_column width=”1/3″]\n    ลงทะเบียน คลิก\n    [/vc_column][/vc_row][vc_row][vc_column][vc_tta_tabs shape=”square” color=”black” active_section=”1″][vc_tta_section title=”หลักการและเหตุผล” tab_id=”1734497221413-895b40be-0844″][vc_single_image image=”14021″ img_size=”full” onclick=”link_image”][/vc_tta_section][vc_tta_section title=”กำหนดการ” tab_id=”1734497221414-5d6743c0-4160″][vc_column_text] \nหัวข้อการสัมมนา:\n\nแนะนำ AI ในที่ทำงาน\n\n\nภาพรวมของ AI และความสำคัญในที่ทำงานยุคใหม่\nความสามารถหลักของ AI: การวิเคราะห์ข้อมูล การสร้างเนื้อหา การสนับสนุนการตัดสินใจ และการเพิ่มความคิดสร้างสรรค์\nตัวอย่างการประยุกต์ใช้ AI ในงานด้านต่าง ๆ\nภาพรวมของเครื่องมือ: ChatGPT\, Microsoft Copilot\, Gamma\, MidJourney\, Perplexity และอื่น ๆ\n\n\nเทคนิคการเขียนคำสั่ง (Prompt Engineering) และการสำรวจเครื่องมือ Generative AI\n\n\nการเขียนคำสั่งที่มีประสิทธิภาพสำหรับเครื่องมือ AI\nตัวอย่างการใช้งานในชีวิตประจำวันและกรณีศึกษาจริงของ AI\n\n\nสรุปและโอกาสในอนาคต\n\n\nทบทวนหัวข้อสำคัญที่ได้เรียนรู้\nแนวโน้มในอนาคตของ AI และผลกระทบที่อาจเกิดขึ้นในที่ทำงาน\n\n[/vc_column_text][/vc_tta_section][vc_tta_section title=”วิทยากร” tab_id=”1734497260335-49703653-b24b”][vc_column_text] \nผศ. ดร. ทิพาจินต์ ไทยพิสุทธิกุล\nผู้ช่วยคณบดีฝ่ายบริการวิชาการและถ่ายทอดเทคโนโลยี \n[/vc_column_text][/vc_tta_section][/vc_tta_tabs][/vc_column][/vc_row]
URL:https://www.ict.mahidol.ac.th/en/event/generative-ai-for-workplace-excellence/
LOCATION:Mahidol University (Salaya)\, Faculty of ICT\, Salaya\, Nakhon Pathom\, Salaya\, Nakhon Pathom\, 73170\, Thailand
CATEGORIES:Seminar
ATTACH;FMTTYPE=image/jpeg:https://www.ict.mahidol.ac.th/en/wp-content/uploads/2024/12/Generative-AI-for-Workplace-Excellence-cover.jpg
END:VEVENT
BEGIN:VEVENT
DTSTART;TZID=Asia/Krasnoyarsk:20250208T090000
DTEND;TZID=Asia/Krasnoyarsk:20250208T170000
DTSTAMP:20260420T010501
CREATED:20241219T032817Z
LAST-MODIFIED:20250113T044104Z
UID:14027-1739005200-1739034000@www.ict.mahidol.ac.th
SUMMARY:Mastering Creation with AI - Stable Diffusion
DESCRIPTION:[vc_row][vc_column width=”1/3″][/vc_column][vc_column width=”1/3″][/vc_column][vc_column width=”1/3″]\n    ลงทะเบียน คลิก\n    [/vc_column][/vc_row][vc_row][vc_column][vc_tta_tabs shape=”square” color=”black” active_section=”1″][vc_tta_section title=”หลักการและเหตุผล” tab_id=”1734578819495-a9952bca-dd63″][vc_single_image image=”14157″ img_size=”full” onclick=”link_image”][/vc_tta_section][vc_tta_section title=”กำหนดการ” tab_id=”1734578819498-444907df-6465″][vc_column_text] \nหัวข้อการอบรม\nBasic Stable Diffusion \n\nอธิบายหลักการทำงานของ AI แบบเข้าใจง่าย\nสอนติดตั้งโปรแกรม Stable Diffusion ทีละขั้นตอน\nเรียนรู้คำสั่งเบื้องต้นเพื่อสร้างภาพที่ต้องการ\nสอนวิธีการเขียนคำสั่งให้ได้ผลลัพธ์ที่ดีที่สุด\nWorkshops การใช้งาน AI ในการสร้างภาพบุคคล\, สร้างงานกราฟิก\n\nAdvanced Mastering Stable Diffusion \n\nการเรียนรู้เทคนิคสูงขึ้น การปรับแต่งรายละเอียด การใช้เทคนิคต่าง ๆ ในการสร้างภาพที่ขับซ้อน\nการสร้างภาพตามสั่ง ภาพนางแบบถือสินค้า ภาพใส่ชุดตามแบบ\nการใช้งาน AI ในเชิงพาณิชย์ การออกแบบภาพ Key visual สร้างภาพโฆษณา\nภาพโปสเตอร์ ออกแบบผลิตภัณฑ์\nการแก้ไขรายละเอียด แก้ไของค์ประกอบของภาพ มือสวย หน้าสวย\nWorkshops ในสถานการณ์จริง ฝึกฝนด้วยการทำงานจริงสร้างงานตามคอนเชปนักเรียน\n\nAdvance Training LORA \n\nสร้าง BRAND CHARACTER ได้หลังจบคอร์ส\nควบคุม CHARACTER งานให้สอดคล้องกับธุรกิจ\nสร้างภาพบุคคลได้หลากหลายรูปแบบ\nปรับ เปลี่ยน และแก้ไขจุดสำคัญของภาพได้ด้วยตนเอง\nเรียนสดตัวต่อตัว เริ่มจากพื้นฐาน ต่อยอดสู่งานระดับมืออาชีพ\n\nหลักสูตรนี้เหมาะสำหรับผู้ที่ต้องการใช้ AI เพื่อเพิ่มศักยภาพในงานสร้างสรรค์ การตลาด และการผลิตสื่อที่มีคุณภาพสูง โดยไม่จำเป็นต้องมีพื้นฐานด้าน AI มาก่อน[/vc_column_text][/vc_tta_section][vc_tta_section title=”ค่าลงทะเบียน” tab_id=”1734578862809-0610c930-1860″][vc_column_text] \nค่าลงทะเบียน 2\,990 บาท\nการชำระค่าลงทะเบียน โปรดรอเจ้าหน้าที่ติดต่อกลับ ทาง Email ที่ท่านสมัครมา\nหลักเกณฑ์การคืนเงินค่าลงทะเบียนฝึกอบรม\nกรณีผู้เข้ารับการฝึกอบรม ไม่สามารถเข้ารับการฝึกอบรมได้ ให้ผู้เข้ารับการฝึกอบรมแจ้งความประสงค์ขอคืนเงินค่าลงทะเบียนเป็นลายลักษณ์อักษรต่อผู้จัดฝึกอบรมรับทราบ โดยมีหลักเกณฑ์ ดังนี้ \n\n\n\nระยะเวลาแสดงความประสงค์ขอคืนเงิน\nอัตราที่คืน\n\n\n1. ไม่น้อยกว่า 7 วันก่อนวันจัดฝึกอบรม\n100 %\n\n\n2. น้อยกว่า 7 วันก่อนวันจัดฝึกอบรม\n75 % **เนื่องจากมีค่าใช้จ่ายที่เกิดขึ้นในการดำเนินงาน\n\n\n\nหมายเหตุ : \n\nกรณีคณะประกาศยกเลิกโครงการหรือหลักสูตรอบรม คณะจะคืนเงินค่าลงทะเบียนเต็มจำนวน\nกรณีโครงการหรือหลักสูตรอบรมที่คณะประกาศเลื่อนจัด และผู้เข้ารับการอบรมมีความประสงค์จะขอคืนเงินค่าลงทะเบียน คณะจะคืนเงินค่าลงทะเบียนเต็มจำนวน\n\n[/vc_column_text][/vc_tta_section][/vc_tta_tabs][/vc_column][/vc_row]
URL:https://www.ict.mahidol.ac.th/en/event/stable-diffusion-and-lora/
LOCATION:Mahidol University (Salaya)\, Faculty of ICT\, Salaya\, Nakhon Pathom\, Salaya\, Nakhon Pathom\, 73170\, Thailand
CATEGORIES:Training
ATTACH;FMTTYPE=image/jpeg:https://www.ict.mahidol.ac.th/en/wp-content/uploads/2024/12/Mastering-Creation-with-AI-Stable-Diffusion-cover.jpg
END:VEVENT
BEGIN:VEVENT
DTSTART;TZID=Asia/Krasnoyarsk:20250218T090000
DTEND;TZID=Asia/Krasnoyarsk:20250218T100000
DTSTAMP:20260420T010501
CREATED:20250131T033913Z
LAST-MODIFIED:20250218T025543Z
UID:14215-1739869200-1739872800@www.ict.mahidol.ac.th
SUMMARY:Considering patients and healthcare end-users in responsible and ethical AI in healthcare
DESCRIPTION:[vc_row][vc_column width=”1/3″][/vc_column][vc_column width=”1/3″][/vc_column][vc_column width=”1/3″]\n    Register Now\n    [/vc_column][/vc_row][vc_row][vc_column][vc_tta_tabs shape=”square” color=”black” active_section=”1″][vc_tta_section title=”Detail” tab_id=”1738836075762-18a417b1-f75f”][vc_single_image image=”14320″ img_size=”full” onclick=”link_image”][vc_column_text]Mahidol students will be awarded an AT in Internationalization 1 hour[/vc_column_text][/vc_tta_section][vc_tta_section title=”Broadcast Schedule” tab_id=”1738836075765-1fe6c89a-dfa2″][vc_column_text] \n\n\n\n\nTime Zone \n\n\n\nNZST (Pacific/Auckland)\, UTC +12\nTuesday\, 18th Feb\, 03.00 – 04.00 PM\n\n\nCEST (CET/Netherlands)\, UTC +2\nTuesday\, 18th Feb\, 05.00 – 06.00 AM\n\n\nEAT (Africa/Nairobi)\, UTC +3\nTuesday\, 18th Feb\, 06.00 – 07.00 AM\n\n\nCST (America/Chicago)\, UTC -6\nMonday\, 17th Feb\, 08.00 – 09.00 PM\n\n\nICT (Asia/Bangkok)\, UTC +7\nTuesday\, 18th Feb\, 09.00 – 10.00 AM\n\n\nBST (Europe/London)\, UTC +1\nTuesday\, 18th Feb\, 04.00 – 05.00 AM\n\n\nAEST (Australia/Sydney)\, UTC +10\nTuesday\, 18th Feb\, 01.00 – 02.00 PM\n\n\n\n[/vc_column_text][/vc_tta_section][vc_tta_section title=”Speaker” tab_id=”1738836121972-18ced7a3-ee04″][vc_row_inner][vc_column_inner width=”1/2″][vc_column_text] \nAssociate Professor Rosie Dobson\nRegistered Psychologist and Associate Professor in the School of Population Health at the University of Auckland\nSpeaker \n[/vc_column_text][/vc_column_inner][vc_column_inner width=”1/2″][vc_column_text] \nAssociate Professor Amy Chan\nThe University of Auckland\, New Zealand\nModerator \n[/vc_column_text][/vc_column_inner][/vc_row_inner][/vc_tta_section][/vc_tta_tabs][/vc_column][/vc_row]
URL:https://www.ict.mahidol.ac.th/en/event/ai-in-healthcare/
LOCATION:Mahidol University (Salaya)\, Faculty of ICT\, Salaya\, Nakhon Pathom\, Salaya\, Nakhon Pathom\, 73170\, Thailand
CATEGORIES:Seminar
ATTACH;FMTTYPE=image/jpeg:https://www.ict.mahidol.ac.th/en/wp-content/uploads/2025/01/Ethical-AI-in-Healthcare-cover-scaled.jpg
END:VEVENT
BEGIN:VEVENT
DTSTART;TZID=Asia/Krasnoyarsk:20250219T130000
DTEND;TZID=Asia/Krasnoyarsk:20250219T160000
DTSTAMP:20260420T010501
CREATED:20241211T083222Z
LAST-MODIFIED:20241225T030838Z
UID:13947-1739970000-1739980800@www.ict.mahidol.ac.th
SUMMARY:MUICT-AST x KSN: “Tiny Habits - Small Steps to Big Success”
DESCRIPTION:[vc_row][vc_column width=”1/3″][/vc_column][vc_column width=”1/3″][/vc_column][vc_column width=”1/3″]\n    ลงทะเบียน คลิก\n    [/vc_column][/vc_row][vc_row][vc_column][vc_tta_tabs shape=”square” color=”black” active_section=”1″][vc_tta_section title=”หลักการและเหตุผล” tab_id=”1733906724781-2fcd418f-918a”][vc_column_text] \nงานบริการวิชาการและถ่ายทอดเทคโนโลยี คณะ ICT มหาวิทยาลัยมหิดล ร่วมกับ บริษัท กรุงศรี นิมเบิล จำกัด ขอเชิญทุกท่านร่วมค้นพบพลังของ Tiny Habits เพื่อพัฒนาตัวเอง ปรับเปลี่ยนพฤติกรรม และสร้างความสำเร็จอย่างยั่งยืนในทุกด้านของชีวิต พร้อมประชาสัมพันธ์ โครงการ KSN Tech Academy Special Internship \nถ้าคุณเป็น \n\nผู้ที่ต้องการเริ่มสร้างนิสัยเพื่อสนับสนุนเป้าหมายด้านการเรียน การทำงาน และการใช้ชีวิต\nผู้ที่ต้องการพัฒนาตนเอง ต้องการเริ่มต้นสร้างนิสัยใหม่ หรือเปลี่ยนแปลงพฤติกรรม\n\nมาร่วมเปลี่ยนแปลงพฤติกรรม เพื่อก้าวไปข้างหน้า พร้อมเรียนรู้และเติบโตกันในงานนี้ \nสิ่งที่คุณจะได้ปลดล็อกตัวเองจากงานนี้ \n\nเข้าใจหลักการของ Tiny Habits เพื่อสร้างนิสัยเชิงบวกทีละเล็กทีละน้อย\nเรียนรู้วิธีเริ่มต้นและปรับพฤติกรรมให้สอดคล้องกับเป้าหมายใหญ่\nฝึกการออกแบบและลงมือปฏิบัติการสร้างนิสัยเล็ก ๆ ที่นำไปสู่ความสำเร็จระยะยาว\n\n[/vc_column_text][vc_single_image image=”14039″ img_size=”full” onclick=”link_image”][vc_column_text] \nนักศึกษามหาวิทยาลัยมหิดลจะได้รับ AT ด้าน Internationalization จำนวน 3 ชั่วโมง \n[/vc_column_text][/vc_tta_section][vc_tta_section title=”กำหนดการ” tab_id=”1733906724785-80a7904f-8dc0″][vc_column_text] \nMUICT-AST x KSN: “Tiny Habits – Small Steps to Big Success” \nวันพฤหัสบดีที่ 19 กุมภาพันธ์ 2568\nณ ห้อง IT 210 คณะเทคโนโลยีสารสนเทศและการสื่อสาร มหาวิทยาลัยมหิดล \n\n\n\nเวลา\nหัวข้อกิจกรรม\n\n\n12.30 – 13.00 น.\nลงทะเบียน\n\n\n13.00 – 13.10 น.\nกล่าวต้อนรับและแนะนำวิทยากร\n\n\n13.10 – 13.20 น.\nกิจกรรม Ice-breaking: แชร์นิสัยเล็ก ๆ ที่เปลี่ยนชีวิต เพื่อสร้างแรงจูงใจว่าทำไมนิสัยเล็กๆ ถึงสำคัญ\n\n\n13.20 – 13.50 น.\nอธิบาย Tiny/Mini Habits (ex. ABC Model: Anchor – Behavior – \nCelebrate)\n\n\n13.50 – 14.00 น.\nShare ตัวอย่างการประยุกต์ใช้ Tiny Habits ในชีวิตประจำวัน\n\n\n14.00 – 14.30 น.\nกิจกรรม: ออกแบบแผน Tiny Habits\n\n\n14.30 – 14.40 น.\nพักเบรค\n\n\n14.40 – 15.00 น.\nWorkshop: กำหนดเป้าหมาย สร้างนิสัยเล็ก ๆ\n\n\n15.00 – 15.10 น.\nสรุป 3 ขั้นตอน: เริ่มเล็กๆ ทำให้ต่อเนื่อง\n\n\n15.10 – 15.20 น.\nGroup Sharing: แชร์แผน Tiny Habits\n\n\n15.20 – 15.30 น.\nเชิญชวน: ตั้งเป้าหมาย 1 สัปดาห์\n\n\n15.30 – 16.00 น.\nประชาสัมพันธ์ โครงการ KSN Tech Academy Special Internship\n\n\n\n**ตารางอาจมีการปรับเปลี่ยนตามความเหมาะสม[/vc_column_text][/vc_tta_section][vc_tta_section title=”วิทยากร” tab_id=”1733906786515-240ace88-9a55″][vc_column_text] \nโค้ชโจ้ กิสดา สุขเหมือน\nExpert\, Agile and Design Thinking Coach \n[/vc_column_text][/vc_tta_section][/vc_tta_tabs][/vc_column][/vc_row]
URL:https://www.ict.mahidol.ac.th/en/event/tiny-habits/
LOCATION:Mahidol University (Salaya)\, Faculty of ICT\, Salaya\, Nakhon Pathom\, Salaya\, Nakhon Pathom\, 73170\, Thailand
CATEGORIES:Seminar
ATTACH;FMTTYPE=image/jpeg:https://www.ict.mahidol.ac.th/en/wp-content/uploads/2024/12/Tiny-Habits-cover.jpg
END:VEVENT
END:VCALENDAR