BEGIN:VCALENDAR
VERSION:2.0
PRODID:-//คณะไอซีที มหาวิทยาลัยมหิดล - ECPv6.1.3//NONSGML v1.0//EN
CALSCALE:GREGORIAN
METHOD:PUBLISH
X-WR-CALNAME:คณะไอซีที มหาวิทยาลัยมหิดล
X-ORIGINAL-URL:https://www.ict.mahidol.ac.th/th
X-WR-CALDESC:Events for คณะไอซีที มหาวิทยาลัยมหิดล
REFRESH-INTERVAL;VALUE=DURATION:PT1H
X-Robots-Tag:noindex
X-PUBLISHED-TTL:PT1H
BEGIN:VTIMEZONE
TZID:Asia/Krasnoyarsk
BEGIN:STANDARD
TZOFFSETFROM:+0700
TZOFFSETTO:+0700
TZNAME:+07
DTSTART:20240101T000000
END:STANDARD
END:VTIMEZONE
BEGIN:VEVENT
DTSTART;TZID=Asia/Krasnoyarsk:20240730T110000
DTEND;TZID=Asia/Krasnoyarsk:20240730T120000
DTSTAMP:20260423T144145
CREATED:20240617T042252Z
LAST-MODIFIED:20240617T043028Z
UID:12825-1722337200-1722340800@www.ict.mahidol.ac.th
SUMMARY:[MUICT – AST The series] Fundamentals of Responsible: From general view of AI/ML practitioners
DESCRIPTION:[vc_row][vc_column width=”1/3″][/vc_column][vc_column width=”1/3″][/vc_column][vc_column width=”1/3″]\n    ลงทะเบียน คลิก\n    [/vc_column][/vc_row][vc_row][vc_column][vc_tta_tabs style=”modern” shape=”square” color=”mulled-wine” active_section=”1″][vc_tta_section title=”หลักการและเหตุผล” tab_id=”1718598269620-f1699d8a-5df6″][vc_column_text] \n\n\nThis talk is suitable for everyone\, including AI/ML practitioners\, data scientists\, and policymakers\, interested in responsible AI practices in Thailand. \n\n\n[/vc_column_text][vc_single_image image=”12790″ img_size=”full” onclick=”link_image”][vc_column_text] \n\n\nWhat you will learn: \n\n\n\n\nThis brief talk will cover the fundamentals of responsibility in AI and ML\, focusing on best practices to prevent algorithmic bias and manage data quality. In the context of Thailand\, participants will learn about the importance of transparency\, fairness\, and accountability for the impacts of AI/ML usage in analysis and decision-making\, considering the country’s specific social and cultural environment. \n\n\n\n\nSkill you will gain:\nYou will gain insights into best practices for responsible AI\, specifically in Thailand’s context. \n\n\n\n\nMahidol students will be awarded an AT in Internationalization 1 hour. \n\n\n[/vc_column_text][/vc_tta_section][vc_tta_section title=”กำหนดการ” tab_id=”1718598269626-47afbd05-ac24″][vc_column_text] \nSchedule\n\n\n\nTime\nDetail\n\n\n10.50 – 11.00 AM\nOpen Webex room\n\n\n11.00 – 11.50 AM\nTalk about Fundamentals of Responsible: From general view of AI/ML practitioners\n\n\n11.50 – 12.00 PM\nQ&A\n\n\n\n[/vc_column_text][/vc_tta_section][vc_tta_section title=”วิทยากร” tab_id=”1718598484110-8d907cf4-a7df”][vc_column_text] \nDr. Tipajin Thaipisutikul\n(Instructor of Faculty of ICT\, Mahidol University) \n[/vc_column_text][/vc_tta_section][/vc_tta_tabs][/vc_column][/vc_row]
URL:https://www.ict.mahidol.ac.th/th/event/ai-ml/
LOCATION:มหาวิทยาลัยมหิดล ศาลายา\, คณะเทคโนโลยีสารสนเทศและการสื่อสาร\, ศาลายา\, นครปฐม\, 73170\, Thailand
CATEGORIES:Upcomimg Seminar
ATTACH;FMTTYPE=image/jpeg:https://www.ict.mahidol.ac.th/th/wp-content/uploads/2024/06/AI-ML-cover.jpg
END:VEVENT
END:VCALENDAR