BEGIN:VCALENDAR
VERSION:2.0
PRODID:-//คณะไอซีที มหาวิทยาลัยมหิดล - ECPv6.1.3//NONSGML v1.0//EN
CALSCALE:GREGORIAN
METHOD:PUBLISH
X-WR-CALNAME:คณะไอซีที มหาวิทยาลัยมหิดล
X-ORIGINAL-URL:https://www.ict.mahidol.ac.th/th
X-WR-CALDESC:Events for คณะไอซีที มหาวิทยาลัยมหิดล
REFRESH-INTERVAL;VALUE=DURATION:PT1H
X-Robots-Tag:noindex
X-PUBLISHED-TTL:PT1H
BEGIN:VTIMEZONE
TZID:Asia/Krasnoyarsk
BEGIN:STANDARD
TZOFFSETFROM:+0700
TZOFFSETTO:+0700
TZNAME:+07
DTSTART:20250101T000000
END:STANDARD
END:VTIMEZONE
BEGIN:VEVENT
DTSTART;TZID=Asia/Krasnoyarsk:20250124T110000
DTEND;TZID=Asia/Krasnoyarsk:20250124T120000
DTSTAMP:20260421T044617
CREATED:20250113T051421Z
LAST-MODIFIED:20250113T051421Z
UID:14253-1737716400-1737720000@www.ict.mahidol.ac.th
SUMMARY:AI Governance in Next Frontier Under Worldwide Universities Network (WUN) Research Project
DESCRIPTION:[vc_row][vc_column width=”1/3″][/vc_column][vc_column width=”1/3″][/vc_column][vc_column width=”1/3″]\n    ลงทะเบียน คลิก\n    [/vc_column][/vc_row][vc_row][vc_column][vc_tta_tabs shape=”square” color=”black” active_section=”1″][vc_tta_section title=”หลักการและเหตุผล” tab_id=”1736745082338-d2874ed8-cb7f”][vc_single_image image=”14256″ img_size=”full” onclick=”link_image”][/vc_tta_section][vc_tta_section title=”กำหนดการ” tab_id=”1736745082341-559de092-6bce”][vc_column_text] \nTime Zone\n\nNZST (Pacific/Auckland) 24 Jan 2025 (5:00 PM – 6:00 PM)\nCEST (CET/Netherlands) 24 Jan 2025 (5:00 AM – 6:00 AM)\nEAT (Africa/Nairobi) 24 Jan 2025 (7:00 AM – 8:00 AM)\nCST (America/Chicago) 23 Jan 2025 (10:00 PM – 11:00 PM)\nICT (Asia/Bangkok) 24 Jan 2025 (11:00 AM – 12:00 PM)\nBST (Europe/London) 24 Jan 2025 (4:00 AM – 5:00 AM)\nAEST (Australia/Sydney) 24 Jan 2025 (3:00 PM – 4:00 PM)\n\n[/vc_column_text][/vc_tta_section][vc_tta_section title=”วิทยากร” tab_id=”1736745120211-32d7107f-fa7b”][vc_row_inner][vc_column_inner width=”1/3″][vc_column_text] \nMr. Maciej Surowiec\n(Head of ASEAN Government Affairs\, Microsoft) \n[/vc_column_text][/vc_column_inner][vc_column_inner width=”1/3″][vc_column_text] \nDr. Komes Chandavimol\n(Principal Research Engineer\, KBTG) \n[/vc_column_text][/vc_column_inner][vc_column_inner width=”1/3″][vc_column_text] \nModerator: Dr. Sak Segkhoonthod\n(Senior Advisor of ETDA & AIGC) \n[/vc_column_text][/vc_column_inner][/vc_row_inner][/vc_tta_section][/vc_tta_tabs][/vc_column][/vc_row]
URL:https://www.ict.mahidol.ac.th/th/event/ai-governance/
LOCATION:มหาวิทยาลัยมหิดล ศาลายา\, คณะเทคโนโลยีสารสนเทศและการสื่อสาร\, ศาลายา\, นครปฐม\, 73170\, Thailand
CATEGORIES:Upcomimg Seminar
ATTACH;FMTTYPE=image/jpeg:https://www.ict.mahidol.ac.th/th/wp-content/uploads/2025/01/AI-Governance-in-Next-Frontier-WUN-cover.jpg
END:VEVENT
END:VCALENDAR